BEGIN:VCALENDAR
VERSION:2.0
PRODID:-//pefinc.org//NONSGML kigkonsult.se iCalcreator 2.30.10//
CALSCALE:GREGORIAN
METHOD:PUBLISH
UID:38d853a2-7a92-48d3-a2e8-70beda66f47c
X-WR-CALDESC:
X-WR-RELCALID:71dbca073f07f45a361c5cca7c61ef71
X-WR-TIMEZONE:America/New_York
BEGIN:VTIMEZONE
TZID:America/New_York
BEGIN:STANDARD
TZNAME:EST
DTSTART:20201101T020000
TZOFFSETFROM:-0400
TZOFFSETTO:-0500
RDATE:20211107T020000
END:STANDARD
BEGIN:DAYLIGHT
TZNAME:EDT
DTSTART:20200308T020000
TZOFFSETFROM:-0500
TZOFFSETTO:-0400
RDATE:20210314T020000
RDATE:20220313T020000
END:DAYLIGHT
END:VTIMEZONE
BEGIN:VEVENT
UID:5485d0c9-3a36-4d90-885a-8d5524ea2e17
DTSTAMP:20260425T131144Z
DESCRIPTION:
DTSTART;TZID=America/New_York:20201120T000000
DTEND;TZID=America/New_York:20201120T235900
LOCATION:
SUMMARY:AKA Caregivers' Day of Observance
END:VEVENT
END:VCALENDAR
