BEGIN:VCALENDAR
VERSION:2.0
PRODID:-//pefinc.org//NONSGML kigkonsult.se iCalcreator 2.30.10//
CALSCALE:GREGORIAN
METHOD:PUBLISH
UID:fdac3bc0-c94c-45ec-84e0-f77c223e3d37
X-WR-CALDESC:
X-WR-RELCALID:1c4c6ba6ff489a33674a5aba1ccb65f7
X-WR-TIMEZONE:America/New_York
BEGIN:VTIMEZONE
TZID:America/New_York
BEGIN:STANDARD
TZNAME:EST
DTSTART:20191103T020000
TZOFFSETFROM:-0400
TZOFFSETTO:-0500
RDATE:20201101T020000
RDATE:20211107T020000
END:STANDARD
BEGIN:DAYLIGHT
TZNAME:EDT
DTSTART:20200308T020000
TZOFFSETFROM:-0500
TZOFFSETTO:-0400
RDATE:20210314T020000
RDATE:20220313T020000
END:DAYLIGHT
END:VTIMEZONE
BEGIN:VEVENT
UID:c85fb3c0-73db-4460-92c9-0acec8c77350
DTSTAMP:20260425T113128Z
DESCRIPTION:
DTSTART;TZID=America/New_York:20201011T200000
DTEND;TZID=America/New_York:20201012T000000
LOCATION:AMF Capital Plaza Lanes\, 4601 Cooper Lane\, Hyattsville\, MD 2078
 4
SUMMARY:2020 Rep Yo' Yard Bowling Bash - Postponed until 2021
END:VEVENT
END:VCALENDAR
