BEGIN:VCALENDAR
VERSION:2.0
PRODID:-//pefinc.org//NONSGML kigkonsult.se iCalcreator 2.30.10//
CALSCALE:GREGORIAN
METHOD:PUBLISH
UID:509d5e17-9947-4ace-b0e8-c17ed2038821
X-WR-CALDESC:
X-WR-RELCALID:8313d080d1795c2703a6732c1125fdf4
X-WR-TIMEZONE:America/New_York
BEGIN:VTIMEZONE
TZID:America/New_York
BEGIN:STANDARD
TZNAME:EST
DTSTART:20191103T020000
TZOFFSETFROM:-0400
TZOFFSETTO:-0500
RDATE:20201101T020000
END:STANDARD
BEGIN:DAYLIGHT
TZNAME:EDT
DTSTART:20200308T020000
TZOFFSETFROM:-0500
TZOFFSETTO:-0400
RDATE:20210314T020000
END:DAYLIGHT
END:VTIMEZONE
BEGIN:VEVENT
UID:c73f719f-c45a-49ab-8493-67555dbc6125
DTSTAMP:20260425T021144Z
DESCRIPTION:
DTSTART;TZID=America/New_York:20200410T000000
DTEND;TZID=America/New_York:20200410T235900
LOCATION:
SUMMARY:AKA Global Impact Day Observance
END:VEVENT
END:VCALENDAR
